BEGIN:VCALENDAR
VERSION:2.0
PRODID:-//Sounds Good Huntington Beach - ECPv6.0.13.1//NONSGML v1.0//EN
CALSCALE:GREGORIAN
METHOD:PUBLISH
X-WR-CALNAME:Sounds Good Huntington Beach
X-ORIGINAL-URL:http://soundsgoodhb.com
X-WR-CALDESC:Events for Sounds Good Huntington Beach
REFRESH-INTERVAL;VALUE=DURATION:PT1H
X-Robots-Tag:noindex
X-PUBLISHED-TTL:PT1H
BEGIN:VTIMEZONE
TZID:America/Los_Angeles
BEGIN:DAYLIGHT
TZOFFSETFROM:-0800
TZOFFSETTO:-0700
TZNAME:PDT
DTSTART:20230312T100000
END:DAYLIGHT
BEGIN:STANDARD
TZOFFSETFROM:-0700
TZOFFSETTO:-0800
TZNAME:PST
DTSTART:20231105T090000
END:STANDARD
END:VTIMEZONE
BEGIN:VEVENT
DTSTART;VALUE=DATE:20230523
DTEND;VALUE=DATE:20230524
DTSTAMP:20260422T115620
CREATED:20230503T172920Z
LAST-MODIFIED:20230503T172946Z
UID:10000034-1684800000-1684886399@soundsgoodhb.com
SUMMARY:NO CLASS TONIGHT
DESCRIPTION:
URL:http://soundsgoodhb.com/event/no-class-tonight-2/
LOCATION:HB Reiki\, 2730 S Harbor Blvd Suite H\, Santa Ana\, 92704\, United States
ORGANIZER;CN="Sam%20Bernal":MAILTO:soundsgoodhb@gmail.com
END:VEVENT
END:VCALENDAR