BEGIN:VCALENDAR
VERSION:2.0
PRODID:-//Sounds Good Huntington Beach - ECPv6.0.13.1//NONSGML v1.0//EN
CALSCALE:GREGORIAN
METHOD:PUBLISH
X-WR-CALNAME:Sounds Good Huntington Beach
X-ORIGINAL-URL:http://soundsgoodhb.com
X-WR-CALDESC:Events for Sounds Good Huntington Beach
REFRESH-INTERVAL;VALUE=DURATION:PT1H
X-Robots-Tag:noindex
X-PUBLISHED-TTL:PT1H
BEGIN:VTIMEZONE
TZID:America/Los_Angeles
BEGIN:DAYLIGHT
TZOFFSETFROM:-0800
TZOFFSETTO:-0700
TZNAME:PDT
DTSTART:20230312T100000
END:DAYLIGHT
BEGIN:STANDARD
TZOFFSETFROM:-0700
TZOFFSETTO:-0800
TZNAME:PST
DTSTART:20231105T090000
END:STANDARD
END:VTIMEZONE
BEGIN:VEVENT
DTSTART;TZID=America/Los_Angeles:20230727T190000
DTEND;TZID=America/Los_Angeles:20230727T200000
DTSTAMP:20260422T050347
CREATED:20230724T220635Z
LAST-MODIFIED:20230724T220912Z
UID:10000046-1690484400-1690488000@soundsgoodhb.com
SUMMARY:Guided Meditation and Sound Bath @ HB REIKI
DESCRIPTION:We will have a special gratitude/intention setting activity before the normal sound bath. \nYou will be provided with a piece of dissolving paper and pencil for you to write an intention for your life or something you are grateful for. \nThen you will place the paper into the singing bowl and watch it to dissolve. This is a symbol of letting your intention go and communicating this message to your unconscious mind. \nAfter the gratitude activity we will have the sound session as usual.\nPlease be on time. If late enter as quietly as possible to not disturb attendees when the session is in progress. \nEnjoy a 45-50 minute Sound Bath (Sound Healing Journey) in the beautiful studio of Huntington Beach Reiki lead by sound healer and artist Sam Bernal. \nAfter you feel the benefits of the sound session to create an energetic exchange\, donations are gratefully accepted via cash or venmo\nSuggested Donation: $20 – $30 \nAfter you feel the benefits of session and would like to create an energetic exchange\, donations are gratefully accepted via cash or venmo \n$20 Entry \nApproximate Timeline (subject to change):\n6:40 – 7:00 PM Arrival and Set Up\n7:00 – 7:03 PM Session Overview\n7:03 – 7:10 Gratitude Ceremony\n7:11 – 7:22 Guided Mindfulness Meditation and Sound Bath\n7:22 7:50/8:00 Sound Bath Continues\n7:50-8:00 PM Session Ends\n7:50-8:15 PM Optional Experience Sharing with Q&A \nWhat to Bring:\nYoga Mat\, Pillows\, blankets…. whatever you need to be comfortable and relaxed. \nThe ground is hard in the studio so bring as many pads\, blankets and pillows as you need to be comfortable and still for 60 minutes. \nEye masks are optional and can assist in allowing a deeper state of meditation if desired. \nParking:\nPark in the free parking in front of the studio at 2730 S Harbor Blvd\, Suite H\, Santa Ana\, CA \nDrive behind the main sign of the business park and take a right at the circle. \nSuite H is up the stairs and is the first door on the left across from the acting school. \nSound Session Etiquette:\nSeating and Yoga mat Placement: Please social distance where possible to ensure all are comfortable. \nLate Arrival:\nQuietly place your things and enjoy the session. Do your best not to disrupt any attendees or Sam as he plays. \nSnoring:\nIf you happen to snore\, Sam will need to wake you during the session usually with a tap on the foot. This is to preserve the experience for the other attendees. If you are prone to falling asleep and snoring\, sitting up and/or leaning against the wall can also help. \nInstruments:\nPlease refrain from bringing your own instruments including drums\, sound bowls etc. There is a natural flow to each sound session that Sam creates intuitively based on the energy of the group\, environment etc. Playing instruments outside of this flow can be a distraction for the other attendees. \nSleeping:\nSound baths are very relaxing and it is not uncommon for people to fall asleep. Your body will still receive benefits of the sound healing during sleep and it is also a mindfulness practice to close your eyes and fix your attention on the sounds while staying conscious. \nDistracting sounds:\nOn occasion sounds from the surrounding environment outside may intrude on the session. Please use this as a mindfulness practice and surrender to the sounds while letting go of any judgements. This will lead to a more pleasant experience for you. \nIf you have any questions please don’t hesitate to send a message.
URL:http://soundsgoodhb.com/event/guided-meditation-and-sound-bath-hb-reiki-2/
LOCATION:HB Reiki\, 2730 S Harbor Blvd Suite H\, Santa Ana\, 92704\, United States
CATEGORIES:Guided Visualization and Sound Experience
ATTACH;FMTTYPE=image/png:http://soundsgoodhb.com/wp-content/uploads/2023/07/Artboard-22-copy-2-e1690236527800.png
ORGANIZER;CN="Sam%20Bernal":MAILTO:soundsgoodhb@gmail.com
END:VEVENT
END:VCALENDAR